BEGIN:VCALENDAR
VERSION:2.0
PRODID:-//Caryford Community Hall - ECPv6.15.20//NONSGML v1.0//EN
CALSCALE:GREGORIAN
METHOD:PUBLISH
X-WR-CALNAME:Caryford Community Hall
X-ORIGINAL-URL:https://caryfordhall.co.uk
X-WR-CALDESC:Events for Caryford Community Hall
REFRESH-INTERVAL;VALUE=DURATION:PT1H
X-Robots-Tag:noindex
X-PUBLISHED-TTL:PT1H
BEGIN:VTIMEZONE
TZID:Europe/London
BEGIN:DAYLIGHT
TZOFFSETFROM:+0000
TZOFFSETTO:+0100
TZNAME:BST
DTSTART:20250330T010000
END:DAYLIGHT
BEGIN:STANDARD
TZOFFSETFROM:+0100
TZOFFSETTO:+0000
TZNAME:GMT
DTSTART:20251026T010000
END:STANDARD
BEGIN:DAYLIGHT
TZOFFSETFROM:+0000
TZOFFSETTO:+0100
TZNAME:BST
DTSTART:20260329T010000
END:DAYLIGHT
BEGIN:STANDARD
TZOFFSETFROM:+0100
TZOFFSETTO:+0000
TZNAME:GMT
DTSTART:20261025T010000
END:STANDARD
BEGIN:DAYLIGHT
TZOFFSETFROM:+0000
TZOFFSETTO:+0100
TZNAME:BST
DTSTART:20270328T010000
END:DAYLIGHT
BEGIN:STANDARD
TZOFFSETFROM:+0100
TZOFFSETTO:+0000
TZNAME:GMT
DTSTART:20271031T010000
END:STANDARD
END:VTIMEZONE
BEGIN:VEVENT
DTSTART;TZID=Europe/London:20260417T080000
DTEND;TZID=Europe/London:20260417T193000
DTSTAMP:20260419T173534
CREATED:20260121T141350Z
LAST-MODIFIED:20260121T141350Z
UID:1428-1776412800-1776454200@caryfordhall.co.uk
SUMMARY:Amy LaVere and Will Sexton
DESCRIPTION:Amy LaVere and her husband\, Will Sexton\, have been music collaborators and touring companions for 11 years.  Amy’s songwriting is pointed and clever and delivered by her captivating voice.  Will’s seasoned guitar playing and velvet vocals are a superb fit to LaVere’s distinctive talent and smooth\, percussive upright bass prowess.  Together they are among the finest musical craftsmen and performers in the Americana genre.  Advance tickets £15 / £8 for students & under 18’s. \nhttps://www.wegottickets.com/event/690199 
URL:https://caryfordhall.co.uk/event/amy-lavere-and-will-sexton/
LOCATION:Caryford Community Hall\, Maggs Lane\, Ansford\, Castle Cary\, Somerset\, BA7 7JJ\, United Kingdom
CATEGORIES:Live Music
ATTACH;FMTTYPE=image/jpeg:https://caryfordhall.co.uk/wp-content/uploads/2026/01/AmyLaVere.jpeg
END:VEVENT
BEGIN:VEVENT
DTSTART;TZID=Europe/London:20260412T193000
DTEND;TZID=Europe/London:20260412T213000
DTSTAMP:20260419T173534
CREATED:20251223T134922Z
LAST-MODIFIED:20260113T102709Z
UID:1365-1776022200-1776029400@caryfordhall.co.uk
SUMMARY:SARAH McQUAID
DESCRIPTION:Sarah’s stunning distinctive vocals combine her engaging personality and musicianship on acoustic and electric guitars\, keyboards and floor tom drum to create a truly immersive experience.  Expect a varied programme of original work\, folk songs and a few familiar covers \nPhoto by Phil Nicholls (philnicholls.co.uk). \nhttps://www.wegottickets.com/event/687240 \nSunday 12th April\, 2026\nDoor time: 7:00pm\nStart time: 7:30pm\n16+ (under 18s must be accompanied by an adult)
URL:https://caryfordhall.co.uk/event/sarah-mcquaid/
LOCATION:Caryford Community Hall\, Maggs Lane\, Ansford\, Castle Cary\, Somerset\, BA7 7JJ\, United Kingdom
CATEGORIES:Live Music
ATTACH;FMTTYPE=image/jpeg:https://caryfordhall.co.uk/wp-content/uploads/2025/12/Sarah-McQuaid.jpeg
ORGANIZER;CN="Fundraising Events Committee":MAILTO:helen@caryfordhall.co.uk
END:VEVENT
END:VCALENDAR