BEGIN:VCALENDAR
VERSION:2.0
PRODID:-//Caryford Community Hall - ECPv6.15.20//NONSGML v1.0//EN
CALSCALE:GREGORIAN
METHOD:PUBLISH
X-WR-CALNAME:Caryford Community Hall
X-ORIGINAL-URL:https://caryfordhall.co.uk
X-WR-CALDESC:Events for Caryford Community Hall
REFRESH-INTERVAL;VALUE=DURATION:PT1H
X-Robots-Tag:noindex
X-PUBLISHED-TTL:PT1H
BEGIN:VTIMEZONE
TZID:Europe/London
BEGIN:DAYLIGHT
TZOFFSETFROM:+0000
TZOFFSETTO:+0100
TZNAME:BST
DTSTART:20240331T010000
END:DAYLIGHT
BEGIN:STANDARD
TZOFFSETFROM:+0100
TZOFFSETTO:+0000
TZNAME:GMT
DTSTART:20241027T010000
END:STANDARD
BEGIN:DAYLIGHT
TZOFFSETFROM:+0000
TZOFFSETTO:+0100
TZNAME:BST
DTSTART:20250330T010000
END:DAYLIGHT
BEGIN:STANDARD
TZOFFSETFROM:+0100
TZOFFSETTO:+0000
TZNAME:GMT
DTSTART:20251026T010000
END:STANDARD
BEGIN:DAYLIGHT
TZOFFSETFROM:+0000
TZOFFSETTO:+0100
TZNAME:BST
DTSTART:20260329T010000
END:DAYLIGHT
BEGIN:STANDARD
TZOFFSETFROM:+0100
TZOFFSETTO:+0000
TZNAME:GMT
DTSTART:20261025T010000
END:STANDARD
END:VTIMEZONE
BEGIN:VEVENT
DTSTART;TZID=Europe/London:20250629T153000
DTEND;TZID=Europe/London:20250629T180000
DTSTAMP:20260421T011540
CREATED:20250521T153747Z
LAST-MODIFIED:20250521T154225Z
UID:1090-1751211000-1751220000@caryfordhall.co.uk
SUMMARY:Not the Glastonbury Festival Tea
DESCRIPTION:Come join us in the grounds of Caryford Hall (or inside should weather dictate) for bubbles\, strawberries and cream and music from the Grey Dogs jazz band. Ticket price includes one drink and one bowl of strawberries. \n  \nhttps://www.wegottickets.com/event/660841
URL:https://caryfordhall.co.uk/event/not-the-glastonbury-festival-tea/
LOCATION:Caryford Community Hall\, Maggs Lane\, Ansford\, Castle Cary\, Somerset\, BA7 7JJ\, United Kingdom
ATTACH;FMTTYPE=image/jpeg:https://caryfordhall.co.uk/wp-content/uploads/2025/05/th-9.jpeg
ORGANIZER;CN="Fundraising Events Committee":MAILTO:helen@caryfordhall.co.uk
END:VEVENT
END:VCALENDAR