BEGIN:VCALENDAR
VERSION:2.0
PRODID:-//Caryford Community Hall - ECPv6.15.20//NONSGML v1.0//EN
CALSCALE:GREGORIAN
METHOD:PUBLISH
X-ORIGINAL-URL:https://caryfordhall.co.uk
X-WR-CALDESC:Events for Caryford Community Hall
REFRESH-INTERVAL;VALUE=DURATION:PT1H
X-Robots-Tag:noindex
X-PUBLISHED-TTL:PT1H
BEGIN:VTIMEZONE
TZID:Europe/London
BEGIN:DAYLIGHT
TZOFFSETFROM:+0000
TZOFFSETTO:+0100
TZNAME:BST
DTSTART:20240331T010000
END:DAYLIGHT
BEGIN:STANDARD
TZOFFSETFROM:+0100
TZOFFSETTO:+0000
TZNAME:GMT
DTSTART:20241027T010000
END:STANDARD
BEGIN:DAYLIGHT
TZOFFSETFROM:+0000
TZOFFSETTO:+0100
TZNAME:BST
DTSTART:20250330T010000
END:DAYLIGHT
BEGIN:STANDARD
TZOFFSETFROM:+0100
TZOFFSETTO:+0000
TZNAME:GMT
DTSTART:20251026T010000
END:STANDARD
BEGIN:DAYLIGHT
TZOFFSETFROM:+0000
TZOFFSETTO:+0100
TZNAME:BST
DTSTART:20260329T010000
END:DAYLIGHT
BEGIN:STANDARD
TZOFFSETFROM:+0100
TZOFFSETTO:+0000
TZNAME:GMT
DTSTART:20261025T010000
END:STANDARD
END:VTIMEZONE
BEGIN:VEVENT
DTSTART;TZID=Europe/London:20250803T193000
DTEND;TZID=Europe/London:20250803T220000
DTSTAMP:20260420T215155
CREATED:20240924T135332Z
LAST-MODIFIED:20240924T135332Z
UID:820-1754249400-1754258400@caryfordhall.co.uk
SUMMARY:Mitch Garlington presents an Evening of Mediumship
DESCRIPTION:Come along to a magical evening with spiritual medium Mitch Garlington bringing the two worlds together. Mitch has been working for the spirit world for over 13 years and his evenings always leave people feeling a little better than when he first found them. He considers it a complete honour and privilege to reconnect audience members with their loved ones in the spirit world. Expect the evening to include lots of love\, laughter\, a bit of camp\, sparkle and high vibe energy.\nhttps://www.wegottickets.com/event/634462 \n 
URL:https://caryfordhall.co.uk/event/mitch-garlington-presents-an-evening-of-mediumship/
LOCATION:Caryford Community Hall\, Maggs Lane\, Ansford\, Castle Cary\, Somerset\, BA7 7JJ\, United Kingdom
ATTACH;FMTTYPE=image/jpeg:https://caryfordhall.co.uk/wp-content/uploads/2024/09/Mitch-promo37.jpg
ORGANIZER;CN="Fundraising Events Committee":MAILTO:helen@caryfordhall.co.uk
END:VEVENT
END:VCALENDAR