BEGIN:VCALENDAR
VERSION:2.0
PRODID:-//Caryford Community Hall - ECPv6.15.20//NONSGML v1.0//EN
CALSCALE:GREGORIAN
METHOD:PUBLISH
X-ORIGINAL-URL:https://caryfordhall.co.uk
X-WR-CALDESC:Events for Caryford Community Hall
REFRESH-INTERVAL;VALUE=DURATION:PT1H
X-Robots-Tag:noindex
X-PUBLISHED-TTL:PT1H
BEGIN:VTIMEZONE
TZID:Europe/London
BEGIN:DAYLIGHT
TZOFFSETFROM:+0000
TZOFFSETTO:+0100
TZNAME:BST
DTSTART:20240331T010000
END:DAYLIGHT
BEGIN:STANDARD
TZOFFSETFROM:+0100
TZOFFSETTO:+0000
TZNAME:GMT
DTSTART:20241027T010000
END:STANDARD
BEGIN:DAYLIGHT
TZOFFSETFROM:+0000
TZOFFSETTO:+0100
TZNAME:BST
DTSTART:20250330T010000
END:DAYLIGHT
BEGIN:STANDARD
TZOFFSETFROM:+0100
TZOFFSETTO:+0000
TZNAME:GMT
DTSTART:20251026T010000
END:STANDARD
BEGIN:DAYLIGHT
TZOFFSETFROM:+0000
TZOFFSETTO:+0100
TZNAME:BST
DTSTART:20260329T010000
END:DAYLIGHT
BEGIN:STANDARD
TZOFFSETFROM:+0100
TZOFFSETTO:+0000
TZNAME:GMT
DTSTART:20261025T010000
END:STANDARD
END:VTIMEZONE
BEGIN:VEVENT
DTSTART;TZID=Europe/London:20251005T160000
DTEND;TZID=Europe/London:20251005T180000
DTSTAMP:20260420T184312
CREATED:20250319T151407Z
LAST-MODIFIED:20250319T151407Z
UID:1015-1759680000-1759687200@caryfordhall.co.uk
SUMMARY:The Poorbox Brothers
DESCRIPTION:Acoustic pre-WW2 blues performed by Marc Clements and Ben W King.  Stripped down to its basic constituents\, a rural sound\, this music sprung up in and around the Delta region of the US Deep South.  There’ll be some Chicago blues too. \nhttps://www.wegottickets.com/event/654425 \n 
URL:https://caryfordhall.co.uk/event/https-www-wegottickets-com-event-654425/
LOCATION:Caryford Community Hall\, Maggs Lane\, Ansford\, Castle Cary\, Somerset\, BA7 7JJ\, United Kingdom
ATTACH;FMTTYPE=image/jpeg:https://caryfordhall.co.uk/wp-content/uploads/2025/03/Poorbox-Bros.jpg
ORGANIZER;CN="Fundraising Events Committee":MAILTO:helen@caryfordhall.co.uk
END:VEVENT
BEGIN:VEVENT
DTSTART;TZID=Europe/London:20251008T193000
DTEND;TZID=Europe/London:20251008T210000
DTSTAMP:20260420T184312
CREATED:20250521T183431Z
LAST-MODIFIED:20250817T215204Z
UID:1097-1759951800-1759957200@caryfordhall.co.uk
SUMMARY:An Evening with Paul Dyer on Wildlife Photography
DESCRIPTION:A talk by wildlife photographer\, Paul Dyer\, with a captivating slide show\, a comprehensive equipment demonstration\, and an engaging Q&A session. \nhttps://www.wegottickets.com/event/668666  \n 
URL:https://caryfordhall.co.uk/event/an-evening-with-paul-dyer-on-wildlife-photography/
LOCATION:Caryford Community Hall\, Maggs Lane\, Ansford\, Castle Cary\, Somerset\, BA7 7JJ\, United Kingdom
ATTACH;FMTTYPE=image/jpeg:https://caryfordhall.co.uk/wp-content/uploads/2025/05/wildlife-3.jpg
ORGANIZER;CN="Fundraising Events Committee":MAILTO:helen@caryfordhall.co.uk
END:VEVENT
BEGIN:VEVENT
DTSTART;TZID=Europe/London:20251017T190000
DTEND;TZID=Europe/London:20251017T220000
DTSTAMP:20260420T184312
CREATED:20250215T153346Z
LAST-MODIFIED:20250818T120707Z
UID:962-1760727600-1760738400@caryfordhall.co.uk
SUMMARY:Bronwynne Brent (supported by Oconee Bell)
DESCRIPTION:Caryford Community Hall \nDoors 19:00; Performance 19:30 \nMississippi songbird\, Bronwynne Brent\, has a spine-tingling vocal style and is a remarkable songwriter\, who simply oozes class.  Performing in trio format with two of her favourite musicians on bass and guitar. \nOconee Bell perform a mixture of transatlantic music that draws upon a variety of influences including Americana\, folk and bluegrass. \nhttps://wegottickets.com/event/650819 \nSeen here live at the Green Note in London: \n \nMore here
URL:https://caryfordhall.co.uk/event/bronwynne-brent/
LOCATION:Caryford Community Hall\, Maggs Lane\, Ansford\, Castle Cary\, Somerset\, BA7 7JJ\, United Kingdom
ATTACH;FMTTYPE=image/jpeg:https://caryfordhall.co.uk/wp-content/uploads/2025/02/Bronwynne-Brent.jpg
ORGANIZER;CN="Fundraising Events Committee":MAILTO:helen@caryfordhall.co.uk
END:VEVENT
BEGIN:VEVENT
DTSTART;TZID=Europe/London:20251022T193000
DTEND;TZID=Europe/London:20251022T220000
DTSTAMP:20260420T184312
CREATED:20251010T144455Z
LAST-MODIFIED:20251010T144930Z
UID:1274-1761161400-1761170400@caryfordhall.co.uk
SUMMARY:Cinema in Caryford - The Phoenician Scheme
DESCRIPTION:The Phoenician Scheme is a 2025 espionage black comedy film produced\, written and directed by Wes Anderson from a story he conceived with Roman Coppola. The film features an ensemble cast that includes Benicio del Toro\, Mia Threapleton\, Michael Cera\, Riz Ahmed\, Tom Hanks\, Bryan Cranston\, Mathieu Amalric\, Richard Ayoade\, Jeffrey Wright\, Scarlett Johansson\, Benedict Cumberbatch\, Rupert Friend\, Hope Davis\, F. Murray Abraham\, Charlotte Gainsbourg\, Willem Dafoe\, and Bill Murray. The story of a family and a family business. \nDoors 19:00 • Film 19:30 \nTickets £6 – Morrisons Daily in Cary (usual shop hours)\nOr: The Market House – Mon-Fri: 09:30 – 12:30 • Sat: 10:00 – 12:00 \nTickets will also be available on the door
URL:https://caryfordhall.co.uk/event/cinema-in-caryford-the-phoenician-scheme/
LOCATION:Caryford Community Hall\, Maggs Lane\, Ansford\, Castle Cary\, Somerset\, BA7 7JJ\, United Kingdom
ATTACH;FMTTYPE=image/jpeg:https://caryfordhall.co.uk/wp-content/uploads/2025/10/Phoenician-Scheme-Poster-event.jpg
ORGANIZER;CN="Cinema in Caryford":MAILTO:sarah@caryfordhall.co.uk
END:VEVENT
BEGIN:VEVENT
DTSTART;TZID=Europe/London:20251027T140000
DTEND;TZID=Europe/London:20251027T160000
DTSTAMP:20260420T184312
CREATED:20250925T133207Z
LAST-MODIFIED:20250925T133207Z
UID:1247-1761573600-1761580800@caryfordhall.co.uk
SUMMARY:LILO & STITCH
DESCRIPTION:Lilo & Stitch is the wildly funny and touching story of a lonely Hawaiian girl and the fugitive alien who helps mend her family. \nRating U.  Running time 1 hour 52 minutes. \nTicket price includes one free drink and snack for children.  Tea\, coffee and biscuits for donation. \nhttps://www.wegottickets.com/event/677400 \n 
URL:https://caryfordhall.co.uk/event/lilo-stitch/
LOCATION:Caryford Community Hall\, Maggs Lane\, Ansford\, Castle Cary\, Somerset\, BA7 7JJ\, United Kingdom
ATTACH;FMTTYPE=image/jpeg:https://caryfordhall.co.uk/wp-content/uploads/2025/09/Lilo-Stitch.jpeg
END:VEVENT
END:VCALENDAR