BEGIN:VCALENDAR
VERSION:2.0
PRODID:-//Caryford Community Hall - ECPv6.15.20//NONSGML v1.0//EN
CALSCALE:GREGORIAN
METHOD:PUBLISH
X-WR-CALNAME:Caryford Community Hall
X-ORIGINAL-URL:https://caryfordhall.co.uk
X-WR-CALDESC:Events for Caryford Community Hall
REFRESH-INTERVAL;VALUE=DURATION:PT1H
X-Robots-Tag:noindex
X-PUBLISHED-TTL:PT1H
BEGIN:VTIMEZONE
TZID:Europe/London
BEGIN:DAYLIGHT
TZOFFSETFROM:+0000
TZOFFSETTO:+0100
TZNAME:BST
DTSTART:20240331T010000
END:DAYLIGHT
BEGIN:STANDARD
TZOFFSETFROM:+0100
TZOFFSETTO:+0000
TZNAME:GMT
DTSTART:20241027T010000
END:STANDARD
BEGIN:DAYLIGHT
TZOFFSETFROM:+0000
TZOFFSETTO:+0100
TZNAME:BST
DTSTART:20250330T010000
END:DAYLIGHT
BEGIN:STANDARD
TZOFFSETFROM:+0100
TZOFFSETTO:+0000
TZNAME:GMT
DTSTART:20251026T010000
END:STANDARD
BEGIN:DAYLIGHT
TZOFFSETFROM:+0000
TZOFFSETTO:+0100
TZNAME:BST
DTSTART:20260329T010000
END:DAYLIGHT
BEGIN:STANDARD
TZOFFSETFROM:+0100
TZOFFSETTO:+0000
TZNAME:GMT
DTSTART:20261025T010000
END:STANDARD
END:VTIMEZONE
BEGIN:VEVENT
DTSTART;TZID=Europe/London:20251115T193000
DTEND;TZID=Europe/London:20251115T220000
DTSTAMP:20260420T171757
CREATED:20250526T135300Z
LAST-MODIFIED:20250526T135300Z
UID:1113-1763235000-1763244000@caryfordhall.co.uk
SUMMARY:Rag Mama Rag - Exploring the rich legacy of American music
DESCRIPTION:Rag Mama Rag create an exceptionally full and hard driving rhythmic sound. Their repertoire is 20’s and 30’s blues based but extremely varied\, encompassing Mississippi Blues\, East Coast ragtime\, early white Country and original compositions. \nhttps://www.wegottickets.com/event/661203
URL:https://caryfordhall.co.uk/event/rag-mama-rag-exploring-the-rich-legacy-of-american-music/
LOCATION:Caryford Community Hall\, Maggs Lane\, Ansford\, Castle Cary\, Somerset\, BA7 7JJ\, United Kingdom
ATTACH;FMTTYPE=image/jpeg:https://caryfordhall.co.uk/wp-content/uploads/2025/05/th-9-1.jpeg
ORGANIZER;CN="Fundraising Events Committee":MAILTO:helen@caryfordhall.co.uk
END:VEVENT
BEGIN:VEVENT
DTSTART;TZID=Europe/London:20251119T193000
DTEND;TZID=Europe/London:20251119T210000
DTSTAMP:20260420T171757
CREATED:20251006T153726Z
LAST-MODIFIED:20251006T153726Z
UID:1263-1763580600-1763586000@caryfordhall.co.uk
SUMMARY:"BLOOD BIKES THAT SAVES LIVES" - An evening with Andrew Wiley\, Chair of Yeovil Freewheelers Blood Bikes
DESCRIPTION:Yeovil Freewheelers has been providing an emergency motorcycle medical courier service to the NHS in Somerset and Dorset since 1978 and is the longest continually serving Blood Bike Group in the world.  They will be bringing a liveried blood bike for all to see. \nhttps://www.wegottickets.com/event/678609
URL:https://caryfordhall.co.uk/event/blood-bikes-that-saves-lives-an-evening-with-andrew-wiley-chair-of-yeovil-freewheelers-blood-bikes/
LOCATION:Caryford Community Hall\, Maggs Lane\, Ansford\, Castle Cary\, Somerset\, BA7 7JJ\, United Kingdom
ATTACH;FMTTYPE=image/png:https://caryfordhall.co.uk/wp-content/uploads/2025/10/Blood-Bike-Logo.png
ORGANIZER;CN="Fundraising Events Committee":MAILTO:helen@caryfordhall.co.uk
END:VEVENT
BEGIN:VEVENT
DTSTART;TZID=Europe/London:20251122T143000
DTEND;TZID=Europe/London:20251122T153000
DTSTAMP:20260420T171757
CREATED:20250718T134347Z
LAST-MODIFIED:20251014T123645Z
UID:1185-1763821800-1763825400@caryfordhall.co.uk
SUMMARY:THE GREATEST ROBOT EVER (a magical\, interactive\, dance-theatre show for children 3 - 8 years and their grownups)
DESCRIPTION:Glitch the little robot doesn’t feel special like all the other amazing robots living in the junk yard.  With the help of best friend\, Shift\, they go on a quest to find the pieces to make them stand out. \nTickets: adults £6 (refreshments available for donation) / under 12″s £3 (including a drink and snack). \nBrought to you in partnership with Take Art. \nRunning time: 1 hour (no interval) \nhttps://www.wegottickets.com/event/669971
URL:https://caryfordhall.co.uk/event/the-greatest-robot-ever-a-magical-interactive-dance-theatre-show-for-children-3-8-years-and-their-grownups/
LOCATION:Caryford Community Hall\, Maggs Lane\, Ansford\, Castle Cary\, Somerset\, BA7 7JJ\, United Kingdom
ATTACH;FMTTYPE=image/jpeg:https://caryfordhall.co.uk/wp-content/uploads/2025/07/ROBOTS-OWENPETERSPHOTOGRAPHY-9126-1920x1280-1.jpg
ORGANIZER;CN="Fundraising Events Committee":MAILTO:helen@caryfordhall.co.uk
END:VEVENT
BEGIN:VEVENT
DTSTART;TZID=Europe/London:20251126T193000
DTEND;TZID=Europe/London:20251126T220000
DTSTAMP:20260420T171757
CREATED:20251113T115105Z
LAST-MODIFIED:20251113T115105Z
UID:1306-1764185400-1764194400@caryfordhall.co.uk
SUMMARY:Cinema in Caryford - The Ballad of Wallis Island
DESCRIPTION:The Ballad of Wallis Island follows Charles (Tim Key)\, an eccentric lottery winner who lives alone on a remote island and dreams of getting his favorite musicians\, Mortimer-McGwyer (Carey Mulligan and Tom Basden) back together. His fantasy quickly turns into reality when the bandmates and former lovers accept his invitation to play a private show at his home on Wallis Island. Old tensions resurface as Charles tries desperately to salvage his dream gig. \nDoors 19:00 • Film 19:30 \nTickets £6 – Morrisons Daily in Cary (usual shop hours)\nOr: The Market House – Mon-Fri: 09:30 – 12:30 • Sat: 10:00 – 12:00 \nTickets will also be available on the door
URL:https://caryfordhall.co.uk/event/cinema-in-caryford-the-ballad-of-wallis-island/
LOCATION:Caryford Community Hall\, Maggs Lane\, Ansford\, Castle Cary\, Somerset\, BA7 7JJ\, United Kingdom
ATTACH;FMTTYPE=image/webp:https://caryfordhall.co.uk/wp-content/uploads/2025/11/wallis.webp
ORGANIZER;CN="Cinema in Caryford":MAILTO:sarah@caryfordhall.co.uk
END:VEVENT
BEGIN:VEVENT
DTSTART;TZID=Europe/London:20251129T100000
DTEND;TZID=Europe/London:20251129T140000
DTSTAMP:20260420T171757
CREATED:20251021T122354Z
LAST-MODIFIED:20251021T122354Z
UID:1292-1764410400-1764424800@caryfordhall.co.uk
SUMMARY:CHRISTMAS CRAFT MARKET
DESCRIPTION:Locally\, handmade\, good quality gifts on sale (bring card and cash).  The Caryford Cafe will be serving tea\, coffee and homemade cakes for donations and selling bacon\, sausage and vegetarian sausage rolls at lunch time.  Free parking and free entry.
URL:https://caryfordhall.co.uk/event/christmas-craft-market-3/
LOCATION:Caryford Community Hall\, Maggs Lane\, Ansford\, Castle Cary\, Somerset\, BA7 7JJ\, United Kingdom
ATTACH;FMTTYPE=image/jpeg:https://caryfordhall.co.uk/wp-content/uploads/2025/10/Xmas-Market-poster-202520-scaled.jpg
ORGANIZER;CN="Fundraising Events Committee":MAILTO:helen@caryfordhall.co.uk
END:VEVENT
END:VCALENDAR